BEGIN:VCALENDAR
VERSION:2.0
PRODID:-//Okehampton Running Club - ECPv6.15.20//NONSGML v1.0//EN
CALSCALE:GREGORIAN
METHOD:PUBLISH
X-WR-CALNAME:Okehampton Running Club
X-ORIGINAL-URL:https://okehamptonrunningclub.com
X-WR-CALDESC:Events for Okehampton Running Club
REFRESH-INTERVAL;VALUE=DURATION:PT1H
X-Robots-Tag:noindex
X-PUBLISHED-TTL:PT1H
BEGIN:VTIMEZONE
TZID:UTC
BEGIN:STANDARD
TZOFFSETFROM:+0000
TZOFFSETTO:+0000
TZNAME:UTC
DTSTART:20250101T000000
END:STANDARD
END:VTIMEZONE
BEGIN:VEVENT
DTSTART;TZID=UTC:20260526T183000
DTEND;TZID=UTC:20260526T193000
DTSTAMP:20260422T220437
CREATED:20260422T213552Z
LAST-MODIFIED:20260422T213555Z
UID:20435-1779820200-1779823800@okehamptonrunningclub.com
SUMMARY:Club runs
DESCRIPTION:Pavey/Cto5k wk8/LoisFosters/steady run/LJFarah/steady run/NickHolmes/steady run/GarryRadcliffe/steady run/MattEnnis/CE 10 mins easy\,10 mins steady\,10 mins tempo\, 10 mins steady\, 10 mins tempo\, 10 mins easy/Rob RussellCoe/CE  10 mins easy\, 10 mins steady\,10 mins tempo\, 10 mins steady\, 10 mins tempo\, 10 mins easy/Rob Kelly
URL:https://okehamptonrunningclub.com/event/club-runs-228/
END:VEVENT
END:VCALENDAR