BEGIN:VCALENDAR
VERSION:2.0
PRODID:-//Okehampton Running Club - ECPv6.15.20//NONSGML v1.0//EN
CALSCALE:GREGORIAN
METHOD:PUBLISH
X-WR-CALNAME:Okehampton Running Club
X-ORIGINAL-URL:https://okehamptonrunningclub.com
X-WR-CALDESC:Events for Okehampton Running Club
REFRESH-INTERVAL;VALUE=DURATION:PT1H
X-Robots-Tag:noindex
X-PUBLISHED-TTL:PT1H
BEGIN:VTIMEZONE
TZID:UTC
BEGIN:STANDARD
TZOFFSETFROM:+0000
TZOFFSETTO:+0000
TZNAME:UTC
DTSTART:20230101T000000
END:STANDARD
END:VTIMEZONE
BEGIN:VEVENT
DTSTART;TZID=UTC:20241219T183000
DTEND;TZID=UTC:20241219T193000
DTSTAMP:20260421T151612
CREATED:20241122T094926Z
LAST-MODIFIED:20241122T095104Z
UID:18023-1734633000-1734636600@okehamptonrunningclub.com
SUMMARY:Training runs
DESCRIPTION:Fosters/steady run/NickHolmes/steady run/MattRadcliffe/steady run/Rob R
URL:https://okehamptonrunningclub.com/event/training-runs-155/
END:VEVENT
END:VCALENDAR