BEGIN:VCALENDAR
VERSION:2.0
PRODID:-//Okehampton Running Club - ECPv6.15.20//NONSGML v1.0//EN
CALSCALE:GREGORIAN
METHOD:PUBLISH
X-WR-CALNAME:Okehampton Running Club
X-ORIGINAL-URL:https://okehamptonrunningclub.com
X-WR-CALDESC:Events for Okehampton Running Club
REFRESH-INTERVAL;VALUE=DURATION:PT1H
X-Robots-Tag:noindex
X-PUBLISHED-TTL:PT1H
BEGIN:VTIMEZONE
TZID:UTC
BEGIN:STANDARD
TZOFFSETFROM:+0000
TZOFFSETTO:+0000
TZNAME:UTC
DTSTART:20230101T000000
END:STANDARD
END:VTIMEZONE
BEGIN:VEVENT
DTSTART;TZID=UTC:20241212T183000
DTEND;TZID=UTC:20241212T193000
DTSTAMP:20260421T152236
CREATED:20241122T094519Z
LAST-MODIFIED:20241122T101006Z
UID:18021-1734028200-1734031800@okehamptonrunningclub.com
SUMMARY:Training runs
DESCRIPTION:Session 1/steady run/MattSession 2/Hilly 10 mins easy\, 4x5mins Kenyan hills strong effort\, 2 mins rec\, 10 mins easy/Robert RCoe/Split10 mins easy\, 4x1mile at 5k pace\, 2mins rec\, 10mins tempo\,10 mins easy/Sarah
URL:https://okehamptonrunningclub.com/event/training-runs-154/
END:VEVENT
END:VCALENDAR