BEGIN:VCALENDAR
VERSION:2.0
PRODID:-//Okehampton Running Club - ECPv6.15.20//NONSGML v1.0//EN
CALSCALE:GREGORIAN
METHOD:PUBLISH
X-ORIGINAL-URL:https://okehamptonrunningclub.com
X-WR-CALDESC:Events for Okehampton Running Club
REFRESH-INTERVAL;VALUE=DURATION:PT1H
X-Robots-Tag:noindex
X-PUBLISHED-TTL:PT1H
BEGIN:VTIMEZONE
TZID:UTC
BEGIN:STANDARD
TZOFFSETFROM:+0000
TZOFFSETTO:+0000
TZNAME:UTC
DTSTART:20230101T000000
END:STANDARD
END:VTIMEZONE
BEGIN:VEVENT
DTSTART;TZID=UTC:20241205T183000
DTEND;TZID=UTC:20241205T193000
DTSTAMP:20260421T151722
CREATED:20241122T094128Z
LAST-MODIFIED:20241127T083318Z
UID:18019-1733423400-1733427000@okehamptonrunningclub.com
SUMMARY:Training runs
DESCRIPTION:Session 1/steady run/NickSession 2/steady run/SarahCoe/???/???
URL:https://okehamptonrunningclub.com/event/training-runs-153/
END:VEVENT
END:VCALENDAR