BEGIN:VCALENDAR
VERSION:2.0
PRODID:-//Okehampton Running Club - ECPv6.15.20//NONSGML v1.0//EN
CALSCALE:GREGORIAN
METHOD:PUBLISH
X-WR-CALNAME:Okehampton Running Club
X-ORIGINAL-URL:https://okehamptonrunningclub.com
X-WR-CALDESC:Events for Okehampton Running Club
REFRESH-INTERVAL;VALUE=DURATION:PT1H
X-Robots-Tag:noindex
X-PUBLISHED-TTL:PT1H
BEGIN:VTIMEZONE
TZID:UTC
BEGIN:STANDARD
TZOFFSETFROM:+0000
TZOFFSETTO:+0000
TZNAME:UTC
DTSTART:20230101T000000
END:STANDARD
END:VTIMEZONE
BEGIN:VEVENT
DTSTART;TZID=UTC:20241126T183000
DTEND;TZID=UTC:20241126T193000
DTSTAMP:20260421T134722
CREATED:20241023T121040Z
LAST-MODIFIED:20241023T135652Z
UID:17925-1732645800-1732649400@okehamptonrunningclub.com
SUMMARY:Club runs
DESCRIPTION:Fosters/steady run/Joanne BTFarah/steady run/EmmaHolmes/steady run/Robert RRadcliffe/steady run/SarahCoe/10mins easy\, 20mins tempo\,5mins easy\, 20mins tempo\, 10mins easy\, 65mins total/???
URL:https://okehamptonrunningclub.com/event/club-runs-156/
END:VEVENT
END:VCALENDAR