BEGIN:VCALENDAR
VERSION:2.0
PRODID:-//Okehampton Running Club - ECPv6.15.20//NONSGML v1.0//EN
CALSCALE:GREGORIAN
METHOD:PUBLISH
X-WR-CALNAME:Okehampton Running Club
X-ORIGINAL-URL:https://okehamptonrunningclub.com
X-WR-CALDESC:Events for Okehampton Running Club
REFRESH-INTERVAL;VALUE=DURATION:PT1H
X-Robots-Tag:noindex
X-PUBLISHED-TTL:PT1H
BEGIN:VTIMEZONE
TZID:UTC
BEGIN:STANDARD
TZOFFSETFROM:+0000
TZOFFSETTO:+0000
TZNAME:UTC
DTSTART:20230101T000000
END:STANDARD
END:VTIMEZONE
BEGIN:VEVENT
DTSTART;TZID=UTC:20241120T183000
DTEND;TZID=UTC:20241120T193000
DTSTAMP:20260421T134135
CREATED:20241118T201315Z
LAST-MODIFIED:20241118T201315Z
UID:18005-1732127400-1732131000@okehamptonrunningclub.com
SUMMARY:Dartmoor Group
DESCRIPTION:Dartmoor (sort of) runWednesday 20thOkehampton StationPark on Station Rd or in YH cp on south side of track to avoid parking chargeMeet 1820 run 183010 -14k / 400 -600m ascentHills of the East OkementThey are firing on the ranges so we’ll do some hill training from the East Okement valley.Long Hill from Fatherford to KlondykeMed hill from the fb to East HillShort hill near the waterfallMed hill againLong hill and return down through the field and across the A30.Can do all or some of each hill to shorten / lengthen the run.Any questions please ask.Kit to wear or carry:TorchShoes suitable for trail running across open moorlandWarm clothesCoatWhistle
URL:https://okehamptonrunningclub.com/event/dartmoor-group-27/
END:VEVENT
END:VCALENDAR