BEGIN:VCALENDAR
VERSION:2.0
PRODID:-//Okehampton Running Club - ECPv6.15.20//NONSGML v1.0//EN
CALSCALE:GREGORIAN
METHOD:PUBLISH
X-WR-CALNAME:Okehampton Running Club
X-ORIGINAL-URL:https://okehamptonrunningclub.com
X-WR-CALDESC:Events for Okehampton Running Club
REFRESH-INTERVAL;VALUE=DURATION:PT1H
X-Robots-Tag:noindex
X-PUBLISHED-TTL:PT1H
BEGIN:VTIMEZONE
TZID:UTC
BEGIN:STANDARD
TZOFFSETFROM:+0000
TZOFFSETTO:+0000
TZNAME:UTC
DTSTART:20230101T000000
END:STANDARD
END:VTIMEZONE
BEGIN:VEVENT
DTSTART;TZID=UTC:20241113T183000
DTEND;TZID=UTC:20241113T193000
DTSTAMP:20260421T134137
CREATED:20241111T203500Z
LAST-MODIFIED:20241111T203500Z
UID:17985-1731522600-1731526200@okehamptonrunningclub.com
SUMMARY:Dartmoor group
DESCRIPTION:Dartmoor runWednesday 13thSandpits cp nr Rowtor///affords.wrenching.perusingMeet 1820 run 183010k / 340m ascent5 Tor routeRowtor\, West Mill\, Yes\,High Willhays\, DingerNice long downhill finishAny questions please ask.Kit to wear or carry:TorchShoes suitable for trail running across open moorlandWarm clothesCoatWhistle
URL:https://okehamptonrunningclub.com/event/dartmoor-group-26/
END:VEVENT
END:VCALENDAR