BEGIN:VCALENDAR
VERSION:2.0
PRODID:-//Okehampton Running Club - ECPv6.15.20//NONSGML v1.0//EN
CALSCALE:GREGORIAN
METHOD:PUBLISH
X-WR-CALNAME:Okehampton Running Club
X-ORIGINAL-URL:https://okehamptonrunningclub.com
X-WR-CALDESC:Events for Okehampton Running Club
REFRESH-INTERVAL;VALUE=DURATION:PT1H
X-Robots-Tag:noindex
X-PUBLISHED-TTL:PT1H
BEGIN:VTIMEZONE
TZID:UTC
BEGIN:STANDARD
TZOFFSETFROM:+0000
TZOFFSETTO:+0000
TZNAME:UTC
DTSTART:20230101T000000
END:STANDARD
END:VTIMEZONE
BEGIN:VEVENT
DTSTART;TZID=UTC:20241107T183000
DTEND;TZID=UTC:20241107T193000
DTSTAMP:20260421T133339
CREATED:20241023T133319Z
LAST-MODIFIED:20241023T135831Z
UID:17928-1731004200-1731007800@okehamptonrunningclub.com
SUMMARY:Training runs
DESCRIPTION:Pavey/Cto5K wk9/Robert RSession 1/steady run/EmmaSession 2/Bangin’\, 10 mins easy\, 4×800 with effort\, 2/4mins rec\, 4×400\, 2 mins rec\, 10 mins easy/SarahCoe/Bangin’10 mins easy\, 1x1k at tempo\, 4mins rec\, 4×400 at tempo\, 1 or 4 mins rec\, 1×800 at tempo\,10 mins easy/Claudine
URL:https://okehamptonrunningclub.com/event/training-runs-149/
END:VEVENT
END:VCALENDAR