BEGIN:VCALENDAR
VERSION:2.0
PRODID:-//Okehampton Running Club - ECPv6.15.20//NONSGML v1.0//EN
CALSCALE:GREGORIAN
METHOD:PUBLISH
X-ORIGINAL-URL:https://okehamptonrunningclub.com
X-WR-CALDESC:Events for Okehampton Running Club
REFRESH-INTERVAL;VALUE=DURATION:PT1H
X-Robots-Tag:noindex
X-PUBLISHED-TTL:PT1H
BEGIN:VTIMEZONE
TZID:UTC
BEGIN:STANDARD
TZOFFSETFROM:+0000
TZOFFSETTO:+0000
TZNAME:UTC
DTSTART:20230101T000000
END:STANDARD
END:VTIMEZONE
BEGIN:VEVENT
DTSTART;TZID=UTC:20241105T183000
DTEND;TZID=UTC:20241105T193000
DTSTAMP:20260421T133716
CREATED:20241023T120131Z
LAST-MODIFIED:20241023T120131Z
UID:17919-1730831400-1730835000@okehamptonrunningclub.com
SUMMARY:Club runs
DESCRIPTION:Pavey/Cto5K wk 9/JRobert RFosters/steady run/NickFarah/steady run/LJHolmes/steady run/???Radcliffe/steady run/SarahCoe/10mins easy\, 10 mins steady\, 10mins tempo\,10mins steady\, 10mins tempo\,10mins easy\, 60mins total/???
URL:https://okehamptonrunningclub.com/event/club-runs-153/
END:VEVENT
END:VCALENDAR