BEGIN:VCALENDAR
VERSION:2.0
PRODID:-//Okehampton Running Club - ECPv6.15.20//NONSGML v1.0//EN
CALSCALE:GREGORIAN
METHOD:PUBLISH
X-WR-CALNAME:Okehampton Running Club
X-ORIGINAL-URL:https://okehamptonrunningclub.com
X-WR-CALDESC:Events for Okehampton Running Club
REFRESH-INTERVAL;VALUE=DURATION:PT1H
X-Robots-Tag:noindex
X-PUBLISHED-TTL:PT1H
BEGIN:VTIMEZONE
TZID:UTC
BEGIN:STANDARD
TZOFFSETFROM:+0000
TZOFFSETTO:+0000
TZNAME:UTC
DTSTART:20230101T000000
END:STANDARD
END:VTIMEZONE
BEGIN:VEVENT
DTSTART;TZID=UTC:20241031T183000
DTEND;TZID=UTC:20241031T193000
DTSTAMP:20260421T120033
CREATED:20240927T201830Z
LAST-MODIFIED:20240928T134151Z
UID:17864-1730399400-1730403000@okehamptonrunningclub.com
SUMMARY:Training runs
DESCRIPTION:Pavey/Cto5K wk8/MichelleSession 1/steady run/MartinSession 2/Pyramid\, 10 mins easy\, 200m\,400\,600\,800\,600\,400\,200\, 2 mins rec\, 10 mins easy/Robert RCoe/Ladder up\, 10 mins easy\, 200m\,400m\,600m\,800m\,1k\, at tempo all at neg splits\, 2 mins rec\,10 mins easy/Claudine
URL:https://okehamptonrunningclub.com/event/training-runs-148/
END:VEVENT
END:VCALENDAR