BEGIN:VCALENDAR
VERSION:2.0
PRODID:-//Okehampton Running Club - ECPv6.15.20//NONSGML v1.0//EN
CALSCALE:GREGORIAN
METHOD:PUBLISH
X-WR-CALNAME:Okehampton Running Club
X-ORIGINAL-URL:https://okehamptonrunningclub.com
X-WR-CALDESC:Events for Okehampton Running Club
REFRESH-INTERVAL;VALUE=DURATION:PT1H
X-Robots-Tag:noindex
X-PUBLISHED-TTL:PT1H
BEGIN:VTIMEZONE
TZID:UTC
BEGIN:STANDARD
TZOFFSETFROM:+0000
TZOFFSETTO:+0000
TZNAME:UTC
DTSTART:20230101T000000
END:STANDARD
END:VTIMEZONE
BEGIN:VEVENT
DTSTART;TZID=UTC:20241029T183000
DTEND;TZID=UTC:20241029T193000
DTSTAMP:20260421T120015
CREATED:20240926T163957Z
LAST-MODIFIED:20241001T152958Z
UID:17852-1730226600-1730230200@okehamptonrunningclub.com
SUMMARY:Club runs
DESCRIPTION:Pavey/Cto5K wk 8/Joanne\, BTFosters/steady run/LJFarah/steady run/Robert RHolmes/steady run/HannahRadcliffe/steady run/MattCoe/10mins easy\, 20mins tempo\,5mins easy\, 20mins tempo\, 10mins easy\, 65mins total/???
URL:https://okehamptonrunningclub.com/event/club-runs-152/
END:VEVENT
END:VCALENDAR