BEGIN:VCALENDAR
VERSION:2.0
PRODID:-//Okehampton Running Club - ECPv6.15.20//NONSGML v1.0//EN
CALSCALE:GREGORIAN
METHOD:PUBLISH
X-ORIGINAL-URL:https://okehamptonrunningclub.com
X-WR-CALDESC:Events for Okehampton Running Club
REFRESH-INTERVAL;VALUE=DURATION:PT1H
X-Robots-Tag:noindex
X-PUBLISHED-TTL:PT1H
BEGIN:VTIMEZONE
TZID:UTC
BEGIN:STANDARD
TZOFFSETFROM:+0000
TZOFFSETTO:+0000
TZNAME:UTC
DTSTART:20230101T000000
END:STANDARD
END:VTIMEZONE
BEGIN:VEVENT
DTSTART;TZID=UTC:20241022T183000
DTEND;TZID=UTC:20241022T193000
DTSTAMP:20260421T120308
CREATED:20240926T163818Z
LAST-MODIFIED:20241001T152941Z
UID:17850-1729621800-1729625400@okehamptonrunningclub.com
SUMMARY:Club runs
DESCRIPTION:Pavey/Cto5K wk 7/Joanne\, BTFosters/steady run/NickFarah/steady run/LJHolmes/steady run/Robert RRadcliffe/steady run/SarahCoe/10mins easy\, 20mins tempo\,5mins easy\, 20mins tempo\, 10mins easy\, 65mins total/???
URL:https://okehamptonrunningclub.com/event/club-runs-151/
END:VEVENT
END:VCALENDAR