BEGIN:VCALENDAR
VERSION:2.0
PRODID:-//Okehampton Running Club - ECPv6.15.20//NONSGML v1.0//EN
CALSCALE:GREGORIAN
METHOD:PUBLISH
X-ORIGINAL-URL:https://okehamptonrunningclub.com
X-WR-CALDESC:Events for Okehampton Running Club
REFRESH-INTERVAL;VALUE=DURATION:PT1H
X-Robots-Tag:noindex
X-PUBLISHED-TTL:PT1H
BEGIN:VTIMEZONE
TZID:UTC
BEGIN:STANDARD
TZOFFSETFROM:+0000
TZOFFSETTO:+0000
TZNAME:UTC
DTSTART:20230101T000000
END:STANDARD
END:VTIMEZONE
BEGIN:VEVENT
DTSTART;TZID=UTC:20241010T183000
DTEND;TZID=UTC:20241010T193000
DTSTAMP:20260421T120305
CREATED:20240927T084620Z
LAST-MODIFIED:20240927T084620Z
UID:17857-1728585000-1728588600@okehamptonrunningclub.com
SUMMARY:Training runs
DESCRIPTION:Pavey/Cto5K wk5/MichelleSession 1/steady run/NickSession 2/Pyramid\, 10 mins easy\, 200m\,400\,600\,800\,600\,400\,200\, 2 mins rec\, 10 mins easy/MattCoe/Ladder down\, 10 mins easy\, 800m\,600\,400\,200 at tempo all at neg splits\, 2 mins rec\, 10 mins easy/Claudine
URL:https://okehamptonrunningclub.com/event/training-runs-145/
END:VEVENT
END:VCALENDAR