BEGIN:VCALENDAR
VERSION:2.0
PRODID:-//Okehampton Running Club - ECPv6.15.20//NONSGML v1.0//EN
CALSCALE:GREGORIAN
METHOD:PUBLISH
X-WR-CALNAME:Okehampton Running Club
X-ORIGINAL-URL:https://okehamptonrunningclub.com
X-WR-CALDESC:Events for Okehampton Running Club
REFRESH-INTERVAL;VALUE=DURATION:PT1H
X-Robots-Tag:noindex
X-PUBLISHED-TTL:PT1H
BEGIN:VTIMEZONE
TZID:UTC
BEGIN:STANDARD
TZOFFSETFROM:+0000
TZOFFSETTO:+0000
TZNAME:UTC
DTSTART:20230101T000000
END:STANDARD
END:VTIMEZONE
BEGIN:VEVENT
DTSTART;TZID=UTC:20241003T183000
DTEND;TZID=UTC:20241003T193000
DTSTAMP:20260421T104914
CREATED:20240927T084211Z
LAST-MODIFIED:20240927T084211Z
UID:17855-1727980200-1727983800@okehamptonrunningclub.com
SUMMARY:Training runs
DESCRIPTION:Pavey/Cto5K wk4/MichelleSession 1/steady run/NickSession 2/Down ladder 10 mins easy3k\,2k\,1k\, strong effort\, 2 mins rec\, 10 mins easy/Robert RCoe/Pyramid\, 10 mins easy\, 800m\,600\,400\,200\,400\,600\,800 at tempo\, 2 min recs\, 10 mins easy/???
URL:https://okehamptonrunningclub.com/event/training-runs-144/
END:VEVENT
END:VCALENDAR