BEGIN:VCALENDAR
VERSION:2.0
PRODID:-//Okehampton Running Club - ECPv6.15.20//NONSGML v1.0//EN
CALSCALE:GREGORIAN
METHOD:PUBLISH
X-ORIGINAL-URL:https://okehamptonrunningclub.com
X-WR-CALDESC:Events for Okehampton Running Club
REFRESH-INTERVAL;VALUE=DURATION:PT1H
X-Robots-Tag:noindex
X-PUBLISHED-TTL:PT1H
BEGIN:VTIMEZONE
TZID:UTC
BEGIN:STANDARD
TZOFFSETFROM:+0000
TZOFFSETTO:+0000
TZNAME:UTC
DTSTART:20230101T000000
END:STANDARD
END:VTIMEZONE
BEGIN:VEVENT
DTSTART;TZID=UTC:20240806T183000
DTEND;TZID=UTC:20240806T193000
DTSTAMP:20260421T120137
CREATED:20240725T101336Z
LAST-MODIFIED:20240725T101336Z
UID:17706-1722969000-1722972600@okehamptonrunningclub.com
SUMMARY:Club runs
DESCRIPTION:All groups/Ring road run/Emma & Hannah
URL:https://okehamptonrunningclub.com/event/club-runs-142/
END:VEVENT
END:VCALENDAR