BEGIN:VCALENDAR
VERSION:2.0
PRODID:-//Okehampton Running Club - ECPv6.15.20//NONSGML v1.0//EN
CALSCALE:GREGORIAN
METHOD:PUBLISH
X-ORIGINAL-URL:https://okehamptonrunningclub.com
X-WR-CALDESC:Events for Okehampton Running Club
REFRESH-INTERVAL;VALUE=DURATION:PT1H
X-Robots-Tag:noindex
X-PUBLISHED-TTL:PT1H
BEGIN:VTIMEZONE
TZID:UTC
BEGIN:STANDARD
TZOFFSETFROM:+0000
TZOFFSETTO:+0000
TZNAME:UTC
DTSTART:20230101T000000
END:STANDARD
END:VTIMEZONE
BEGIN:VEVENT
DTSTART;TZID=UTC:20240327T183000
DTEND;TZID=UTC:20240327T193000
DTSTAMP:20260421T103019
CREATED:20240325T210549Z
LAST-MODIFIED:20240325T210550Z
UID:17364-1711564200-1711567800@okehamptonrunningclub.com
SUMMARY:Dartmoor Group
DESCRIPTION:Dartmoor GroupWednesday 27thKing’s Arms PH\, South ZealMeet 1820 run 183012k / 280m ascentPub run to finish the term 🍺A bit longer than some. From the village to Rockside. Onto the Stone Row\, then the Circle. Up to Little Hound Tor then the Beacon before 3km down to finish.Bring some dry socks if you’ll be staying for a drink.Any questions please ask.Kit to wear or carry:TorchShoes suitable for trail running across open moorlandWarm clothesCoatHatGlovesWhistle
URL:https://okehamptonrunningclub.com/event/dartmoor-group-12/
END:VEVENT
END:VCALENDAR